BEGIN:VCALENDAR
VERSION:2.0
PRODID:-//wp-events-plugin.com//7.2.3.1//EN
TZID:Europe/Berlin
X-WR-TIMEZONE:Europe/Berlin
BEGIN:VEVENT
UID:188@schumacher-alt.de
DTSTART;TZID=Europe/Berlin:20260401T113000
DTEND;TZID=Europe/Berlin:20260401T160000
DTSTAMP:20260126T161136Z
URL:https://schumacher-alt.de/veranstaltungen/suppenlesung-der-friedrich-s
 pee-akademie-e-v-duesseldorf-6/
SUMMARY:Suppenlesung - der Friedrich-Spee-Akademie e.V. Düsseldorf
DESCRIPTION:"Heute hat die Köchin frei\, wir essen in der Brauerei!"\n\n&n
 bsp\;\n\nIn freundlicher Atmosphäre plaudert es sich besonders gut.\nUnd 
 die eine oder andere vorgetragene Geschichte erfreut die Anwesenden und re
 gt zum Austausch an.\n\nPlanen Sie diese nette Veranstaltung in Ihrem Term
 inkalender ein und lernen Sie andere Teilnehmer unserer Akademie kennen.\n
 \nKosten: nur Verzehr\nTeilnehmer: wer kütt\, der kütt\n\nReferentinnen:
  Angelika Peters\, Brigitte Göbels
ATTACH;FMTTYPE=image/jpeg:https://schumacher-alt.de/storage/202
 3/04/SCHUMACHER_Braumeisterstube_7_c7920_1-scaled.jpg
CATEGORIES:Event
LOCATION:Stammhaus\, Oststraße 123\, Düsseldorf\, 40210\, Deutschland
X-APPLE-STRUCTURED-LOCATION;VALUE=URI;X-ADDRESS=Oststraße 123\, Düsseldor
 f\, 40210\, Deutschland;X-APPLE-RADIUS=100;X-TITLE=Stammhaus:geo:0,0
END:VEVENT
BEGIN:VTIMEZONE
TZID:Europe/Berlin
X-LIC-LOCATION:Europe/Berlin
BEGIN:DAYLIGHT
DTSTART:20260329T030000
TZOFFSETFROM:+0100
TZOFFSETTO:+0200
TZNAME:CEST
END:DAYLIGHT
END:VTIMEZONE
END:VCALENDAR