BEGIN:VCALENDAR
VERSION:2.0
PRODID:-//wp-events-plugin.com//7.2.3.1//EN
TZID:Europe/Berlin
X-WR-TIMEZONE:Europe/Berlin
BEGIN:VEVENT
UID:172@schumacher-alt.de
DTSTART;TZID=Europe/Berlin:20260816T170000
DTEND;TZID=Europe/Berlin:20260816T170000
DTSTAMP:20260205T105247Z
URL:https://schumacher-alt.de/veranstaltungen/benefitzversteigerung/
SUMMARY:Benefizversteigerung
DESCRIPTION:Manes Meckenstock versteigert auf unserem Brauhof\, im "Stammha
 us" an der Oststraße "Schönes &amp\; Scheußliches". Die Einnahmen sind 
 zugunsten des SOS-Kinderdorfs Düsseldorf\n\n&nbsp\;\n\n&nbsp\;
ATTACH;FMTTYPE=image/jpeg:https://schumacher-alt.de/storage/202
 5/07/Mannes-BV.png
CATEGORIES:Event
LOCATION:Stammhaus\, Oststraße 123\, Düsseldorf\, 40210\, Deutschland
X-APPLE-STRUCTURED-LOCATION;VALUE=URI;X-ADDRESS=Oststraße 123\, Düsseldor
 f\, 40210\, Deutschland;X-APPLE-RADIUS=100;X-TITLE=Stammhaus:geo:0,0
END:VEVENT
BEGIN:VTIMEZONE
TZID:Europe/Berlin
X-LIC-LOCATION:Europe/Berlin
BEGIN:DAYLIGHT
DTSTART:20260329T030000
TZOFFSETFROM:+0100
TZOFFSETTO:+0200
TZNAME:CEST
END:DAYLIGHT
END:VTIMEZONE
END:VCALENDAR